Package: metahdep Version: 1.65.0 Command: /Library/Frameworks/R.framework/Resources/bin/R CMD INSTALL metahdep StartedAt: 2025-02-09 15:01:00 -0500 (Sun, 09 Feb 2025) EndedAt: 2025-02-09 15:01:02 -0500 (Sun, 09 Feb 2025) EllapsedTime: 2.6 seconds RetCode: 0 Status: OK