Package: metahdep Version: 1.65.0 Command: /home/biocbuild/R/R/bin/R CMD check --install=check:metahdep.install-out.txt --library=/home/biocbuild/R/R/site-library --no-vignettes --timings metahdep_1.65.0.tar.gz StartedAt: 2024-12-11 21:14:45 -0000 (Wed, 11 Dec 2024) EndedAt: 2024-12-11 21:15:10 -0000 (Wed, 11 Dec 2024) EllapsedTime: 25.1 seconds RetCode: 0 Status: WARNINGS CheckDir: metahdep.Rcheck Warnings: 1