Package: metahdep Version: 1.65.0 Command: /home/biocbuild/R/R/bin/R CMD INSTALL metahdep StartedAt: 2025-01-29 19:29:43 -0000 (Wed, 29 Jan 2025) EndedAt: 2025-01-29 19:29:52 -0000 (Wed, 29 Jan 2025) EllapsedTime: 8.2 seconds RetCode: 1 Status: ERROR