Package: metahdep Version: 1.65.0 Command: rm -rf metahdep.buildbin-libdir && mkdir metahdep.buildbin-libdir && /Users/biocbuild/BBS/utils/build-universal.sh metahdep_1.65.0.tar.gz /Library/Frameworks/R.framework/Resources/bin/R metahdep.buildbin-libdir StartedAt: 2025-02-04 00:42:15 -0500 (Tue, 04 Feb 2025) EndedAt: 2025-02-04 00:42:23 -0500 (Tue, 04 Feb 2025) EllapsedTime: 8.1 seconds RetCode: 0 Status: OK PackageFile: metahdep_1.65.0.tgz PackageFileSize: 651.6 KiB