Package: metahdep Version: 1.65.0 Command: /Library/Frameworks/R.framework/Resources/bin/R CMD INSTALL metahdep StartedAt: 2025-02-09 15:03:28 -0500 (Sun, 09 Feb 2025) EndedAt: 2025-02-09 15:03:45 -0500 (Sun, 09 Feb 2025) EllapsedTime: 17.2 seconds RetCode: 0 Status: OK