Package: metahdep Version: 1.65.0 Command: /home/biocbuild/bbs-3.21-bioc/R/bin/R CMD build --keep-empty-dirs --no-resave-data metahdep StartedAt: 2025-02-09 18:01:15 -0500 (Sun, 09 Feb 2025) EndedAt: 2025-02-09 18:01:23 -0500 (Sun, 09 Feb 2025) EllapsedTime: 8.0 seconds RetCode: 0 Status: OK PackageFile: metahdep_1.65.0.tar.gz PackageFileSize: 551.3 KiB