Package: metahdep Version: 1.65.0 Command: /home/biocbuild/bbs-3.21-bioc/R/bin/R CMD check --install=check:metahdep.install-out.txt --library=/home/biocbuild/bbs-3.21-bioc/R/site-library --timings metahdep_1.65.0.tar.gz StartedAt: 2025-02-04 00:03:56 -0500 (Tue, 04 Feb 2025) EndedAt: 2025-02-04 00:04:21 -0500 (Tue, 04 Feb 2025) EllapsedTime: 25.0 seconds RetCode: 0 Status: WARNINGS CheckDir: metahdep.Rcheck Warnings: 1