Package: metahdep Version: 1.65.0 Command: /home/biocbuild/bbs-3.21-bioc/R/bin/R CMD INSTALL metahdep StartedAt: 2025-02-03 15:12:00 -0500 (Mon, 03 Feb 2025) EndedAt: 2025-02-03 15:12:04 -0500 (Mon, 03 Feb 2025) EllapsedTime: 3.5 seconds RetCode: 0 Status: OK