Package: metahdep Version: 1.65.0 Command: rm -rf metahdep.buildbin-libdir && mkdir metahdep.buildbin-libdir && E:\biocbuild\bbs-3.21-bioc\R\bin\R.exe CMD INSTALL --build --library=metahdep.buildbin-libdir metahdep_1.65.0.tar.gz StartedAt: 2025-02-05 08:18:23 -0500 (Wed, 05 Feb 2025) EndedAt: 2025-02-05 08:18:36 -0500 (Wed, 05 Feb 2025) EllapsedTime: 12.3 seconds RetCode: 0 Status: OK PackageFile: metahdep_1.65.0.zip PackageFileSize: 547.9 KiB