Package: metahdep Version: 1.65.0 Command: E:\biocbuild\bbs-3.21-bioc\R\bin\R.exe CMD check --no-multiarch --install=check:metahdep.install-out.txt --library=E:\biocbuild\bbs-3.21-bioc\R\library --no-vignettes --timings metahdep_1.65.0.tar.gz StartedAt: 2025-02-05 03:10:31 -0500 (Wed, 05 Feb 2025) EndedAt: 2025-02-05 03:11:10 -0500 (Wed, 05 Feb 2025) EllapsedTime: 38.7 seconds RetCode: 0 Status: WARNINGS CheckDir: metahdep.Rcheck Warnings: 1