Package: metahdep Version: 1.65.0 Command: E:\biocbuild\bbs-3.21-bioc\R\bin\R.exe CMD INSTALL metahdep StartedAt: 2025-02-04 15:17:18 -0500 (Tue, 04 Feb 2025) EndedAt: 2025-02-04 15:17:33 -0500 (Tue, 04 Feb 2025) EllapsedTime: 14.8 seconds RetCode: 0 Status: OK