Package: metapod Version: 1.15.0 Command: /Library/Frameworks/R.framework/Resources/bin/R CMD INSTALL metapod StartedAt: 2025-02-09 15:01:40 -0500 (Sun, 09 Feb 2025) EndedAt: 2025-02-09 15:01:48 -0500 (Sun, 09 Feb 2025) EllapsedTime: 8.1 seconds RetCode: 0 Status: OK