Package: metapod Version: 1.15.0 Command: chmod a+r metapod -R && E:\biocbuild\bbs-3.21-bioc\R\bin\R.exe CMD build --keep-empty-dirs --no-resave-data metapod StartedAt: 2025-02-09 19:46:41 -0500 (Sun, 09 Feb 2025) EndedAt: 2025-02-09 19:47:24 -0500 (Sun, 09 Feb 2025) EllapsedTime: 42.7 seconds RetCode: 0 Status: OK PackageFile: metapod_1.15.0.tar.gz PackageFileSize: 324 KiB