Package: metapone Version: 1.13.0 Command: rm -rf metapone.buildbin-libdir && mkdir metapone.buildbin-libdir && /Users/biocbuild/BBS/utils/build-universal.sh metapone_1.13.0.tar.gz /Library/Frameworks/R.framework/Resources/bin/R metapone.buildbin-libdir StartedAt: 2025-02-12 22:25:41 -0500 (Wed, 12 Feb 2025) EndedAt: 2025-02-12 22:25:46 -0500 (Wed, 12 Feb 2025) EllapsedTime: 5.1 seconds RetCode: 0 Status: OK PackageFile: metapone_1.13.0.tgz PackageFileSize: 3.795 MiB