Package: metapone Version: 1.13.0 Command: /Library/Frameworks/R.framework/Resources/bin/R CMD build --keep-empty-dirs --no-resave-data metapone StartedAt: 2025-02-09 16:51:48 -0500 (Sun, 09 Feb 2025) EndedAt: 2025-02-09 16:56:57 -0500 (Sun, 09 Feb 2025) EllapsedTime: 308.4 seconds RetCode: 0 Status: OK PackageFile: metapone_1.13.0.tar.gz PackageFileSize: 3.745 MiB