Package: metapone Version: 1.13.0 Command: /home/biocbuild/bbs-3.21-bioc/R/bin/R CMD check --install=check:metapone.install-out.txt --library=/home/biocbuild/bbs-3.21-bioc/R/site-library --timings metapone_1.13.0.tar.gz StartedAt: 2025-02-12 23:57:45 -0500 (Wed, 12 Feb 2025) EndedAt: 2025-02-13 00:12:09 -0500 (Thu, 13 Feb 2025) EllapsedTime: 864.0 seconds RetCode: 0 Status: OK CheckDir: metapone.Rcheck Warnings: 0