Package: metapone Version: 1.13.0 Command: chmod a+r metapone -R && E:\biocbuild\bbs-3.21-bioc\R\bin\R.exe CMD build --keep-empty-dirs --no-resave-data metapone StartedAt: 2025-02-12 19:51:58 -0500 (Wed, 12 Feb 2025) EndedAt: 2025-02-12 20:09:12 -0500 (Wed, 12 Feb 2025) EllapsedTime: 1033.9 seconds RetCode: 0 Status: OK PackageFile: metapone_1.13.0.tar.gz PackageFileSize: 3.701 MiB