Package: metapone Version: 1.13.0 Command: E:\biocbuild\bbs-3.21-bioc\R\bin\R.exe CMD check --no-multiarch --install=check:metapone.install-out.txt --library=E:\biocbuild\bbs-3.21-bioc\R\library --no-vignettes --timings metapone_1.13.0.tar.gz StartedAt: 2025-02-13 02:55:11 -0500 (Thu, 13 Feb 2025) EndedAt: 2025-02-13 03:02:40 -0500 (Thu, 13 Feb 2025) EllapsedTime: 448.4 seconds RetCode: 0 Status: OK CheckDir: metapone.Rcheck Warnings: 0