Package: methimpute Version: 1.29.0 Command: rm -rf methimpute.buildbin-libdir && mkdir methimpute.buildbin-libdir && /Users/biocbuild/BBS/utils/build-universal.sh methimpute_1.29.0.tar.gz /Library/Frameworks/R.framework/Resources/bin/R methimpute.buildbin-libdir StartedAt: 2025-02-09 22:20:29 -0500 (Sun, 09 Feb 2025) EndedAt: 2025-02-09 22:20:44 -0500 (Sun, 09 Feb 2025) EllapsedTime: 15.3 seconds RetCode: 0 Status: OK PackageFile: methimpute_1.29.0.tgz PackageFileSize: 1.537 MiB