Package: methimpute Version: 1.29.0 Command: /Library/Frameworks/R.framework/Resources/bin/R CMD check --install=check:methimpute.install-out.txt --library=/Library/Frameworks/R.framework/Resources/library --no-vignettes --timings methimpute_1.29.0.tar.gz StartedAt: 2025-02-09 20:01:17 -0500 (Sun, 09 Feb 2025) EndedAt: 2025-02-09 20:02:12 -0500 (Sun, 09 Feb 2025) EllapsedTime: 55.6 seconds RetCode: 0 Status: WARNINGS CheckDir: methimpute.Rcheck Warnings: 1