Package: methimpute Version: 1.29.0 Command: /home/biocbuild/R/R/bin/R CMD build --keep-empty-dirs --no-resave-data methimpute StartedAt: 2025-01-29 00:10:20 -0000 (Wed, 29 Jan 2025) EndedAt: 2025-01-29 00:13:21 -0000 (Wed, 29 Jan 2025) EllapsedTime: 181.1 seconds RetCode: 0 Status: OK PackageFile: methimpute_1.29.0.tar.gz PackageFileSize: 1.249 MiB