Package: methimpute Version: 1.29.0 Command: /home/biocbuild/R/R/bin/R CMD check --install=check:methimpute.install-out.txt --library=/home/biocbuild/R/R/site-library --no-vignettes --timings methimpute_1.29.0.tar.gz StartedAt: 2025-01-28 12:16:10 -0000 (Tue, 28 Jan 2025) EndedAt: 2025-01-28 12:19:10 -0000 (Tue, 28 Jan 2025) EllapsedTime: 180.2 seconds RetCode: 0 Status: WARNINGS CheckDir: methimpute.Rcheck Warnings: 1