Package: methimpute Version: 1.29.0 Command: rm -rf methimpute.buildbin-libdir && mkdir methimpute.buildbin-libdir && /Users/biocbuild/BBS/utils/build-universal.sh methimpute_1.29.0.tar.gz /Library/Frameworks/R.framework/Resources/bin/R methimpute.buildbin-libdir StartedAt: 2025-02-10 01:01:56 -0500 (Mon, 10 Feb 2025) EndedAt: 2025-02-10 01:02:48 -0500 (Mon, 10 Feb 2025) EllapsedTime: 51.9 seconds RetCode: 0 Status: OK PackageFile: methimpute_1.29.0.tgz PackageFileSize: 1.523 MiB