Package: methimpute Version: 1.29.0 Command: /Library/Frameworks/R.framework/Resources/bin/R CMD build --keep-empty-dirs --no-resave-data methimpute StartedAt: 2025-02-09 17:22:43 -0500 (Sun, 09 Feb 2025) EndedAt: 2025-02-09 17:25:01 -0500 (Sun, 09 Feb 2025) EllapsedTime: 138.0 seconds RetCode: 0 Status: OK PackageFile: methimpute_1.29.0.tar.gz PackageFileSize: 1.268 MiB