Package: methimpute Version: 1.29.0 Command: /Library/Frameworks/R.framework/Resources/bin/R CMD INSTALL methimpute StartedAt: 2025-02-09 15:09:40 -0500 (Sun, 09 Feb 2025) EndedAt: 2025-02-09 15:10:27 -0500 (Sun, 09 Feb 2025) EllapsedTime: 47.3 seconds RetCode: 0 Status: OK