Package: methimpute Version: 1.29.0 Command: /home/biocbuild/bbs-3.21-bioc/R/bin/R CMD build --keep-empty-dirs --no-resave-data methimpute StartedAt: 2025-02-03 18:11:02 -0500 (Mon, 03 Feb 2025) EndedAt: 2025-02-03 18:13:07 -0500 (Mon, 03 Feb 2025) EllapsedTime: 125.1 seconds RetCode: 0 Status: OK PackageFile: methimpute_1.29.0.tar.gz PackageFileSize: 1.268 MiB