Package: methimpute Version: 1.29.0 Command: rm -rf methimpute.buildbin-libdir && mkdir methimpute.buildbin-libdir && E:\biocbuild\bbs-3.21-bioc\R\bin\R.exe CMD INSTALL --build --library=methimpute.buildbin-libdir methimpute_1.29.0.tar.gz StartedAt: 2025-02-10 08:06:53 -0500 (Mon, 10 Feb 2025) EndedAt: 2025-02-10 08:07:53 -0500 (Mon, 10 Feb 2025) EllapsedTime: 59.9 seconds RetCode: 0 Status: OK PackageFile: methimpute_1.29.0.zip PackageFileSize: 1.917 MiB