Package: methimpute Version: 1.29.0 Command: E:\biocbuild\bbs-3.21-bioc\R\bin\R.exe CMD check --no-multiarch --install=check:methimpute.install-out.txt --library=E:\biocbuild\bbs-3.21-bioc\R\library --no-vignettes --timings methimpute_1.29.0.tar.gz StartedAt: 2025-02-10 02:45:37 -0500 (Mon, 10 Feb 2025) EndedAt: 2025-02-10 02:48:47 -0500 (Mon, 10 Feb 2025) EllapsedTime: 189.6 seconds RetCode: 0 Status: WARNINGS CheckDir: methimpute.Rcheck Warnings: 1