Package: methodical Version: 1.3.0 Maintainer: Richard Heery MaintainerEmail: richardheery at gmail.com git_url: https://git.bioconductor.org/packages/methodical git_branch: devel git_last_commit: 635917c git_last_commit_date: 2025-01-23 09:28:07 -0500 (Thu, 23 Jan 2025)