Package: methodical Version: 1.3.0 Command: /home/biocbuild/R/R/bin/R CMD build --keep-empty-dirs --no-resave-data methodical StartedAt: 2025-01-29 00:10:35 -0000 (Wed, 29 Jan 2025) EndedAt: 2025-01-29 00:50:35 -0000 (Wed, 29 Jan 2025) EllapsedTime: 2400.0 seconds RetCode: None Status: TIMEOUT PackageFile: None PackageFileSize: NA