Package: methodical Version: 1.3.0 Command: /home/biocbuild/R/R/bin/R CMD check --install=check:methodical.install-out.txt --library=/home/biocbuild/R/R/site-library --no-vignettes --timings methodical_1.3.0.tar.gz StartedAt: 2025-01-18 09:06:28 -0000 (Sat, 18 Jan 2025) EndedAt: 2025-01-18 09:19:48 -0000 (Sat, 18 Jan 2025) EllapsedTime: 799.8 seconds RetCode: 0 Status: WARNINGS CheckDir: methodical.Rcheck Warnings: 1