Package: methodical Version: 1.3.0 Command: rm -rf methodical.buildbin-libdir && mkdir methodical.buildbin-libdir && /Users/biocbuild/BBS/utils/build-universal.sh methodical_1.3.0.tar.gz /Library/Frameworks/R.framework/Resources/bin/R methodical.buildbin-libdir StartedAt: 2025-02-10 01:01:58 -0500 (Mon, 10 Feb 2025) EndedAt: 2025-02-10 01:02:42 -0500 (Mon, 10 Feb 2025) EllapsedTime: 43.9 seconds RetCode: 0 Status: OK PackageFile: methodical_1.3.0.tgz PackageFileSize: 4.532 MiB