Package: methodical Version: 1.3.0 Command: /Library/Frameworks/R.framework/Resources/bin/R CMD build --keep-empty-dirs --no-resave-data methodical StartedAt: 2025-02-12 17:18:56 -0500 (Wed, 12 Feb 2025) EndedAt: 2025-02-12 17:38:04 -0500 (Wed, 12 Feb 2025) EllapsedTime: 1148.2 seconds RetCode: 0 Status: OK PackageFile: methodical_1.3.0.tar.gz PackageFileSize: 4.369 MiB