Package: methodical Version: 1.3.0 Command: /home/biocbuild/bbs-3.21-bioc/R/bin/R CMD build --keep-empty-dirs --no-resave-data methodical StartedAt: 2025-02-09 18:02:00 -0500 (Sun, 09 Feb 2025) EndedAt: 2025-02-09 18:17:07 -0500 (Sun, 09 Feb 2025) EllapsedTime: 906.8 seconds RetCode: 0 Status: OK PackageFile: methodical_1.3.0.tar.gz PackageFileSize: 4.369 MiB