Package: methodical Version: 1.3.0 Command: /home/biocbuild/bbs-3.21-bioc/R/bin/R CMD check --install=check:methodical.install-out.txt --library=/home/biocbuild/bbs-3.21-bioc/R/site-library --timings methodical_1.3.0.tar.gz StartedAt: 2025-02-12 23:58:51 -0500 (Wed, 12 Feb 2025) EndedAt: 2025-02-13 00:25:15 -0500 (Thu, 13 Feb 2025) EllapsedTime: 1583.9 seconds RetCode: 0 Status: WARNINGS CheckDir: methodical.Rcheck Warnings: 1