Package: methrix Version: 1.21.0 Command: rm -rf methrix.buildbin-libdir && mkdir methrix.buildbin-libdir && /Users/biocbuild/BBS/utils/build-universal.sh methrix_1.21.0.tar.gz /Library/Frameworks/R.framework/Resources/bin/R methrix.buildbin-libdir StartedAt: 2025-02-04 22:22:24 -0500 (Tue, 04 Feb 2025) EndedAt: 2025-02-04 22:22:41 -0500 (Tue, 04 Feb 2025) EllapsedTime: 17.3 seconds RetCode: 0 Status: OK PackageFile: methrix_1.21.0.tgz PackageFileSize: 3.448 MiB