Package: methrix Version: 1.21.0 Command: /Library/Frameworks/R.framework/Resources/bin/R CMD check --install=check:methrix.install-out.txt --library=/Library/Frameworks/R.framework/Resources/library --no-vignettes --timings methrix_1.21.0.tar.gz StartedAt: 2025-02-04 20:03:59 -0500 (Tue, 04 Feb 2025) EndedAt: 2025-02-04 20:06:03 -0500 (Tue, 04 Feb 2025) EllapsedTime: 123.3 seconds RetCode: 0 Status: OK CheckDir: methrix.Rcheck Warnings: 0