Package: methrix Version: 1.21.0 Command: /Library/Frameworks/R.framework/Resources/bin/R CMD build --keep-empty-dirs --no-resave-data methrix StartedAt: 2025-02-04 17:18:20 -0500 (Tue, 04 Feb 2025) EndedAt: 2025-02-04 17:22:12 -0500 (Tue, 04 Feb 2025) EllapsedTime: 232.7 seconds RetCode: 0 Status: OK PackageFile: methrix_1.21.0.tar.gz PackageFileSize: 4.077 MiB