Package: methrix Version: 1.21.0 Command: /Library/Frameworks/R.framework/Resources/bin/R CMD INSTALL methrix StartedAt: 2025-02-04 15:18:57 -0500 (Tue, 04 Feb 2025) EndedAt: 2025-02-04 15:19:49 -0500 (Tue, 04 Feb 2025) EllapsedTime: 52.4 seconds RetCode: 0 Status: OK