Package: methrix Version: 1.21.0 Command: /home/biocbuild/bbs-3.21-bioc/R/bin/R CMD build --keep-empty-dirs --no-resave-data methrix StartedAt: 2025-02-09 18:02:36 -0500 (Sun, 09 Feb 2025) EndedAt: 2025-02-09 18:06:29 -0500 (Sun, 09 Feb 2025) EllapsedTime: 233.2 seconds RetCode: 0 Status: OK PackageFile: methrix_1.21.0.tar.gz PackageFileSize: 3.991 MiB