Package: methrix Version: 1.21.0 Command: /home/biocbuild/bbs-3.21-bioc/R/bin/R CMD check --install=check:methrix.install-out.txt --library=/home/biocbuild/bbs-3.21-bioc/R/site-library --timings methrix_1.21.0.tar.gz StartedAt: 2025-02-09 23:58:55 -0500 (Sun, 09 Feb 2025) EndedAt: 2025-02-10 00:07:42 -0500 (Mon, 10 Feb 2025) EllapsedTime: 526.6 seconds RetCode: 0 Status: OK CheckDir: methrix.Rcheck Warnings: 0