Package: methrix Version: 1.21.0 Command: rm -rf methrix.buildbin-libdir && mkdir methrix.buildbin-libdir && E:\biocbuild\bbs-3.21-bioc\R\bin\R.exe CMD INSTALL --build --library=methrix.buildbin-libdir methrix_1.21.0.tar.gz StartedAt: 2025-02-10 08:07:07 -0500 (Mon, 10 Feb 2025) EndedAt: 2025-02-10 08:08:02 -0500 (Mon, 10 Feb 2025) EllapsedTime: 54.9 seconds RetCode: 0 Status: OK PackageFile: methrix_1.21.0.zip PackageFileSize: 3.154 MiB