Package: methrix Version: 1.21.0 Command: E:\biocbuild\bbs-3.21-bioc\R\bin\R.exe CMD INSTALL methrix StartedAt: 2025-02-09 16:35:22 -0500 (Sun, 09 Feb 2025) EndedAt: 2025-02-09 16:36:25 -0500 (Sun, 09 Feb 2025) EllapsedTime: 62.5 seconds RetCode: 0 Status: OK