Package: methyLImp2 Version: 1.3.1 Maintainer: Anna Plaksienko MaintainerEmail: anna at plaxienko.com git_url: https://git.bioconductor.org/packages/methyLImp2 git_branch: devel git_last_commit: 38134b5 git_last_commit_date: 2025-02-04 06:01:02 -0500 (Tue, 04 Feb 2025)