Package: methyLImp2 Version: 1.3.1 Command: /Library/Frameworks/R.framework/Resources/bin/R CMD build --keep-empty-dirs --no-resave-data methyLImp2 StartedAt: 2025-02-04 16:53:50 -0500 (Tue, 04 Feb 2025) EndedAt: 2025-02-04 16:54:16 -0500 (Tue, 04 Feb 2025) EllapsedTime: 26.3 seconds RetCode: 0 Status: OK PackageFile: methyLImp2_1.3.1.tar.gz PackageFileSize: 1.261 MiB