Package: methyLImp2 Version: 1.3.1 Command: /Library/Frameworks/R.framework/Resources/bin/R CMD check --install=check:methyLImp2.install-out.txt --library=/Library/Frameworks/R.framework/Resources/library --no-vignettes --timings methyLImp2_1.3.1.tar.gz StartedAt: 2025-02-04 20:04:33 -0500 (Tue, 04 Feb 2025) EndedAt: 2025-02-04 20:05:47 -0500 (Tue, 04 Feb 2025) EllapsedTime: 74.7 seconds RetCode: 0 Status: OK CheckDir: methyLImp2.Rcheck Warnings: 0