Package: methyLImp2 Version: 1.3.0 Command: /home/biocbuild/R/R/bin/R CMD build --keep-empty-dirs --no-resave-data methyLImp2 StartedAt: 2025-01-29 00:13:06 -0000 (Wed, 29 Jan 2025) EndedAt: 2025-01-29 00:14:11 -0000 (Wed, 29 Jan 2025) EllapsedTime: 65.0 seconds RetCode: 0 Status: OK PackageFile: methyLImp2_1.3.0.tar.gz PackageFileSize: 1.285 MiB