Package: methyLImp2 Version: 1.3.1 Command: rm -rf methyLImp2.buildbin-libdir && mkdir methyLImp2.buildbin-libdir && /Users/biocbuild/BBS/utils/build-universal.sh methyLImp2_1.3.1.tar.gz /Library/Frameworks/R.framework/Resources/bin/R methyLImp2.buildbin-libdir StartedAt: 2025-02-05 00:48:19 -0500 (Wed, 05 Feb 2025) EndedAt: 2025-02-05 00:48:50 -0500 (Wed, 05 Feb 2025) EllapsedTime: 31.1 seconds RetCode: 0 Status: OK PackageFile: methyLImp2_1.3.1.tgz PackageFileSize: 1.295 MiB