Package: methyLImp2 Version: 1.3.1 Command: /Library/Frameworks/R.framework/Resources/bin/R CMD check --install=check:methyLImp2.install-out.txt --library=/Library/Frameworks/R.framework/Resources/library --no-vignettes --timings methyLImp2_1.3.1.tar.gz StartedAt: 2025-02-04 21:34:23 -0500 (Tue, 04 Feb 2025) EndedAt: 2025-02-04 21:37:46 -0500 (Tue, 04 Feb 2025) EllapsedTime: 202.8 seconds RetCode: 0 Status: OK CheckDir: methyLImp2.Rcheck Warnings: 0