Package: methyLImp2 Version: 1.3.1 Command: /home/biocbuild/bbs-3.21-bioc/R/bin/R CMD check --install=check:methyLImp2.install-out.txt --library=/home/biocbuild/bbs-3.21-bioc/R/site-library --timings methyLImp2_1.3.1.tar.gz StartedAt: 2025-02-05 00:03:23 -0500 (Wed, 05 Feb 2025) EndedAt: 2025-02-05 00:10:23 -0500 (Wed, 05 Feb 2025) EllapsedTime: 420.3 seconds RetCode: 0 Status: OK CheckDir: methyLImp2.Rcheck Warnings: 0